BEGIN:VCALENDAR
VERSION:2.0
PRODID:-//Savage Hope - ECPv6.15.19//NONSGML v1.0//EN
CALSCALE:GREGORIAN
METHOD:PUBLISH
X-ORIGINAL-URL:https://savagehope.com
X-WR-CALDESC:Events for Savage Hope
REFRESH-INTERVAL;VALUE=DURATION:PT1H
X-Robots-Tag:noindex
X-PUBLISHED-TTL:PT1H
BEGIN:VTIMEZONE
TZID:America/Detroit
BEGIN:DAYLIGHT
TZOFFSETFROM:-0500
TZOFFSETTO:-0400
TZNAME:EDT
DTSTART:20240310T070000
END:DAYLIGHT
BEGIN:STANDARD
TZOFFSETFROM:-0400
TZOFFSETTO:-0500
TZNAME:EST
DTSTART:20241103T060000
END:STANDARD
BEGIN:DAYLIGHT
TZOFFSETFROM:-0500
TZOFFSETTO:-0400
TZNAME:EDT
DTSTART:20250309T070000
END:DAYLIGHT
BEGIN:STANDARD
TZOFFSETFROM:-0400
TZOFFSETTO:-0500
TZNAME:EST
DTSTART:20251102T060000
END:STANDARD
BEGIN:DAYLIGHT
TZOFFSETFROM:-0500
TZOFFSETTO:-0400
TZNAME:EDT
DTSTART:20260308T070000
END:DAYLIGHT
BEGIN:STANDARD
TZOFFSETFROM:-0400
TZOFFSETTO:-0500
TZNAME:EST
DTSTART:20261101T060000
END:STANDARD
END:VTIMEZONE
BEGIN:VTIMEZONE
TZID:UTC
BEGIN:STANDARD
TZOFFSETFROM:+0000
TZOFFSETTO:+0000
TZNAME:UTC
DTSTART:20240101T000000
END:STANDARD
END:VTIMEZONE
BEGIN:VEVENT
DTSTART;VALUE=DATE:20250330
DTEND;VALUE=DATE:20250331
DTSTAMP:20260423T105712
CREATED:20250301T191047Z
LAST-MODIFIED:20250301T191047Z
UID:105-1743292800-1743379199@savagehope.com
SUMMARY:Sugaring at the Sugar Shack!
DESCRIPTION:Come and volunteer to help with the sugaring process \nlearn about how the sap is processed into syrup and then into sugar!
URL:https://savagehope.com/event/sugaring-at-the-sugar-shack/
LOCATION:Sugar Shack
ORGANIZER;CN="John Smith":MAILTO:john@smith.com
END:VEVENT
BEGIN:VEVENT
DTSTART;TZID=America/Detroit:20250320T173000
DTEND;TZID=America/Detroit:20250320T233000
DTSTAMP:20260423T105712
CREATED:20250301T191526Z
LAST-MODIFIED:20250301T191526Z
UID:110-1742491800-1742513400@savagehope.com
SUMMARY:Spring Equinox Evening Fire
DESCRIPTION:Join us for a spring equinox fire to celebrate the coming of the growing season! \n \n 
URL:https://savagehope.com/event/spring-equinox-evening-fire/
END:VEVENT
BEGIN:VEVENT
DTSTART;VALUE=DATE:20250315
DTEND;VALUE=DATE:20250316
DTSTAMP:20260423T105712
CREATED:20250301T190345Z
LAST-MODIFIED:20250301T190345Z
UID:99-1741996800-1742083199@savagehope.com
SUMMARY:Tree Tapping at the Forest
DESCRIPTION:We will be tentatively tapping trees on March 15th\, 2005 \nJoin us to learn about maple tree sugaring and the health benefits
URL:https://savagehope.com/event/tree-tapping-at-the-forest/
ORGANIZER;CN="John Smith":MAILTO:john@smith.com
END:VEVENT
END:VCALENDAR